BEGIN:VCALENDAR
VERSION:2.0
PRODID:-//ZEEP - ECPv6.15.20//NONSGML v1.0//EN
CALSCALE:GREGORIAN
METHOD:PUBLISH
X-WR-CALNAME:ZEEP
X-ORIGINAL-URL:https://zeepimprotheater.nl
X-WR-CALDESC:Events for ZEEP
REFRESH-INTERVAL;VALUE=DURATION:PT1H
X-Robots-Tag:noindex
X-PUBLISHED-TTL:PT1H
BEGIN:VTIMEZONE
TZID:Europe/Amsterdam
BEGIN:DAYLIGHT
TZOFFSETFROM:+0100
TZOFFSETTO:+0200
TZNAME:CEST
DTSTART:20250330T010000
END:DAYLIGHT
BEGIN:STANDARD
TZOFFSETFROM:+0200
TZOFFSETTO:+0100
TZNAME:CET
DTSTART:20251026T010000
END:STANDARD
BEGIN:DAYLIGHT
TZOFFSETFROM:+0100
TZOFFSETTO:+0200
TZNAME:CEST
DTSTART:20260329T010000
END:DAYLIGHT
BEGIN:STANDARD
TZOFFSETFROM:+0200
TZOFFSETTO:+0100
TZNAME:CET
DTSTART:20261025T010000
END:STANDARD
BEGIN:DAYLIGHT
TZOFFSETFROM:+0100
TZOFFSETTO:+0200
TZNAME:CEST
DTSTART:20270328T010000
END:DAYLIGHT
BEGIN:STANDARD
TZOFFSETFROM:+0200
TZOFFSETTO:+0100
TZNAME:CET
DTSTART:20271031T010000
END:STANDARD
END:VTIMEZONE
BEGIN:VEVENT
DTSTART;TZID=Europe/Amsterdam:20260427T200000
DTEND;TZID=Europe/Amsterdam:20260427T220000
DTSTAMP:20260421T114445
CREATED:20251001T122824Z
LAST-MODIFIED:20251001T142402Z
UID:1482-1777320000-1777327200@zeepimprotheater.nl
SUMMARY:Vakantie
DESCRIPTION:
URL:https://zeepimprotheater.nl/zeep-leden-event/vakantie-2/
CATEGORIES:Les
END:VEVENT
BEGIN:VEVENT
DTSTART;TZID=Europe/Amsterdam:20260504T200000
DTEND;TZID=Europe/Amsterdam:20260504T220000
DTSTAMP:20260421T114445
CREATED:20251001T122824Z
LAST-MODIFIED:20251001T142359Z
UID:1483-1777924800-1777932000@zeepimprotheater.nl
SUMMARY:Vakantie
DESCRIPTION:
URL:https://zeepimprotheater.nl/zeep-leden-event/vakantie-3/
CATEGORIES:Les
END:VEVENT
BEGIN:VEVENT
DTSTART;TZID=Europe/Amsterdam:20260511T200000
DTEND;TZID=Europe/Amsterdam:20260511T220000
DTSTAMP:20260421T114445
CREATED:20251001T122824Z
LAST-MODIFIED:20260317T100758Z
UID:1484-1778529600-1778536800@zeepimprotheater.nl
SUMMARY:Les: Aniek?
DESCRIPTION:
URL:https://zeepimprotheater.nl/zeep-leden-event/les-hans-6/
LOCATION:Karel Doorman\, De Stuw 3\, Amersfoort\, Utrecht\, 3813TX\, Netherlands
CATEGORIES:Les
END:VEVENT
BEGIN:VEVENT
DTSTART;TZID=Europe/Amsterdam:20260518T200000
DTEND;TZID=Europe/Amsterdam:20260518T220000
DTSTAMP:20260421T114445
CREATED:20251001T122825Z
LAST-MODIFIED:20260317T100801Z
UID:1485-1779134400-1779141600@zeepimprotheater.nl
SUMMARY:Les: Aniek
DESCRIPTION:
URL:https://zeepimprotheater.nl/zeep-leden-event/les-hans-7/
LOCATION:Karel Doorman\, De Stuw 3\, Amersfoort\, Utrecht\, 3813TX\, Netherlands
CATEGORIES:Les
END:VEVENT
BEGIN:VEVENT
DTSTART;TZID=Europe/Amsterdam:20260525T200000
DTEND;TZID=Europe/Amsterdam:20260525T220000
DTSTAMP:20260421T114445
CREATED:20251001T122825Z
LAST-MODIFIED:20251001T123112Z
UID:1486-1779739200-1779746400@zeepimprotheater.nl
SUMMARY:❌ Pinksteren
DESCRIPTION:
URL:https://zeepimprotheater.nl/zeep-leden-event/pinksteren/
LOCATION:Karel Doorman\, De Stuw 3\, Amersfoort\, Utrecht\, 3813TX\, Netherlands
CATEGORIES:Vrij
END:VEVENT
BEGIN:VEVENT
DTSTART;TZID=Europe/Amsterdam:20260601T200000
DTEND;TZID=Europe/Amsterdam:20260601T220000
DTSTAMP:20260421T114445
CREATED:20251001T122837Z
LAST-MODIFIED:20251001T140913Z
UID:1487-1780344000-1780351200@zeepimprotheater.nl
SUMMARY:Les: Remco
DESCRIPTION:
URL:https://zeepimprotheater.nl/zeep-leden-event/pinksteren-2/
LOCATION:Karel Doorman\, De Stuw 3\, Amersfoort\, Utrecht\, 3813TX\, Netherlands
CATEGORIES:Vrij
END:VEVENT
BEGIN:VEVENT
DTSTART;TZID=Europe/Amsterdam:20260608T200000
DTEND;TZID=Europe/Amsterdam:20260608T220000
DTSTAMP:20260421T114445
CREATED:20251001T122838Z
LAST-MODIFIED:20251001T122838Z
UID:1488-1780948800-1780956000@zeepimprotheater.nl
SUMMARY:Les: Remco
DESCRIPTION:
URL:https://zeepimprotheater.nl/zeep-leden-event/les-remco/
LOCATION:Karel Doorman\, De Stuw 3\, Amersfoort\, Utrecht\, 3813TX\, Netherlands
CATEGORIES:Les
END:VEVENT
BEGIN:VEVENT
DTSTART;TZID=Europe/Amsterdam:20260615T200000
DTEND;TZID=Europe/Amsterdam:20260615T220000
DTSTAMP:20260421T114445
CREATED:20251001T122838Z
LAST-MODIFIED:20251001T122838Z
UID:1489-1781553600-1781560800@zeepimprotheater.nl
SUMMARY:Les: Remco
DESCRIPTION:
URL:https://zeepimprotheater.nl/zeep-leden-event/les-remco-2/
LOCATION:Karel Doorman\, De Stuw 3\, Amersfoort\, Utrecht\, 3813TX\, Netherlands
CATEGORIES:Les
END:VEVENT
BEGIN:VEVENT
DTSTART;TZID=Europe/Amsterdam:20260622T200000
DTEND;TZID=Europe/Amsterdam:20260622T220000
DTSTAMP:20260421T114445
CREATED:20251001T122838Z
LAST-MODIFIED:20251001T122838Z
UID:1490-1782158400-1782165600@zeepimprotheater.nl
SUMMARY:Les: Remco
DESCRIPTION:
URL:https://zeepimprotheater.nl/zeep-leden-event/les-remco-3/
LOCATION:Karel Doorman\, De Stuw 3\, Amersfoort\, Utrecht\, 3813TX\, Netherlands
CATEGORIES:Les
END:VEVENT
BEGIN:VEVENT
DTSTART;TZID=Europe/Amsterdam:20260628T200000
DTEND;TZID=Europe/Amsterdam:20260628T220000
DTSTAMP:20260421T114445
CREATED:20251001T122838Z
LAST-MODIFIED:20251001T141436Z
UID:1491-1782676800-1782684000@zeepimprotheater.nl
SUMMARY:Gluren bij de Buren
DESCRIPTION:
URL:https://zeepimprotheater.nl/zeep-leden-event/gluren-bij-de-buren-2/
CATEGORIES:Optreden
END:VEVENT
BEGIN:VEVENT
DTSTART;TZID=Europe/Amsterdam:20260706T200000
DTEND;TZID=Europe/Amsterdam:20260706T220000
DTSTAMP:20260421T114445
CREATED:20251001T141136Z
LAST-MODIFIED:20251001T141136Z
UID:1506-1783368000-1783375200@zeepimprotheater.nl
SUMMARY:Eindfeest
DESCRIPTION:
URL:https://zeepimprotheater.nl/zeep-leden-event/eindfeest-2/
LOCATION:Karel Doorman\, De Stuw 3\, Amersfoort\, Utrecht\, 3813TX\, Netherlands
CATEGORIES:Feest
END:VEVENT
BEGIN:VEVENT
DTSTART;TZID=Europe/Amsterdam:20260713T200000
DTEND;TZID=Europe/Amsterdam:20260713T220000
DTSTAMP:20260421T114445
CREATED:20251001T141231Z
LAST-MODIFIED:20251001T142441Z
UID:1508-1783972800-1783980000@zeepimprotheater.nl
SUMMARY:Eindborrel
DESCRIPTION:
URL:https://zeepimprotheater.nl/zeep-leden-event/eindborrel/
CATEGORIES:Feest
END:VEVENT
END:VCALENDAR